View In:
ArcMap
ArcGIS Explorer
ArcGIS JavaScript
Google Earth
View Footprint In:
Google Earth
Service Description:
Map Name: Layers
Layers:
Description:
Copyright Text:
Spatial Reference: PROJCS["FDEP Albers HARN",GEOGCS["GCS_North_American_1983_HARN",DATUM["D_North_American_1983_HARN",SPHEROID["GRS_1980",6378137.0,298.257222101]],PRIMEM["Greenwich",0.0],UNIT["Degree",0.0174532925199433]],PROJECTION["Albers"],PARAMETER["False_Easting",400000.0],PARAMETER["False_Northing",0.0],PARAMETER["Central_Meridian",-84.0],PARAMETER["Standard_Parallel_1",24.0],PARAMETER["Standard_Parallel_2",31.5],PARAMETER["Latitude_Of_Origin",24.0],UNIT["Meter",1.0]]
Single Fused Map Cache: true
Tile Info:
- Height: 512
- Width: 512
- DPI: 96
- Levels of Detail: (# Levels: 12)
-
Level ID: 0
[Start Tile,
End Tile]
Resolution: 2116.67090000847
Scale: 8000000
-
Level ID: 1
[Start Tile,
End Tile]
Resolution: 1058.33545000423
Scale: 4000000
-
Level ID: 2
[Start Tile,
End Tile]
Resolution: 529.167725002117
Scale: 2000000
-
Level ID: 3
[Start Tile,
End Tile]
Resolution: 264.583862501058
Scale: 1000000
-
Level ID: 4
[Start Tile,
End Tile]
Resolution: 132.291931250529
Scale: 500000
-
Level ID: 5
[Start Tile,
End Tile]
Resolution: 66.1459656252646
Scale: 250000
-
Level ID: 6
[Start Tile,
End Tile]
Resolution: 33.0729828126323
Scale: 125000
-
Level ID: 7
[Start Tile,
End Tile]
Resolution: 16.9333672000677
Scale: 64000
-
Level ID: 8
[Start Tile,
End Tile]
Resolution: 8.46668360003387
Scale: 32000
-
Level ID: 9
[Start Tile,
End Tile]
Resolution: 4.23334180001693
Scale: 16000
-
Level ID: 10
[Start Tile,
End Tile]
Resolution: 2.11667090000847
Scale: 8000
-
Level ID: 11
[Start Tile,
End Tile]
Resolution: 1.05833545000423
Scale: 4000
- Format: PNG8
- Compression Quality: 0
-
Origin:
- Spatial Reference: PROJCS["FDEP Albers HARN",GEOGCS["GCS_North_American_1983_HARN",DATUM["D_North_American_1983_HARN",SPHEROID["GRS_1980",6378137.0,298.257222101]],PRIMEM["Greenwich",0.0],UNIT["Degree",0.0174532925199433]],PROJECTION["Albers"],PARAMETER["False_Easting",400000.0],PARAMETER["False_Northing",0.0],PARAMETER["Central_Meridian",-84.0],PARAMETER["Standard_Parallel_1",24.0],PARAMETER["Standard_Parallel_2",31.5],PARAMETER["Latitude_Of_Origin",24.0],UNIT["Meter",1.0]]
Intial Extent:
XMin: 1451.14080935257
YMin: 13320.0695348326
XMax: 856240.772200712
YMax: 805239.742181707
Spatial Reference: PROJCS["FDEP Albers HARN",GEOGCS["GCS_North_American_1983_HARN",DATUM["D_North_American_1983_HARN",SPHEROID["GRS_1980",6378137.0,298.257222101]],PRIMEM["Greenwich",0.0],UNIT["Degree",0.0174532925199433]],PROJECTION["Albers"],PARAMETER["False_Easting",400000.0],PARAMETER["False_Northing",0.0],PARAMETER["Central_Meridian",-84.0],PARAMETER["Standard_Parallel_1",24.0],PARAMETER["Standard_Parallel_2",31.5],PARAMETER["Latitude_Of_Origin",24.0],UNIT["Meter",1.0]]
Full Extent:
XMin: 27205.2043089488
YMin: 27556.6349378507
XMax: 830486.708701116
YMax: 791003.176778689
Spatial Reference: PROJCS["FDEP Albers HARN",GEOGCS["GCS_North_American_1983_HARN",DATUM["D_North_American_1983_HARN",SPHEROID["GRS_1980",6378137.0,298.257222101]],PRIMEM["Greenwich",0.0],UNIT["Degree",0.0174532925199433]],PROJECTION["Albers"],PARAMETER["False_Easting",400000.0],PARAMETER["False_Northing",0.0],PARAMETER["Central_Meridian",-84.0],PARAMETER["Standard_Parallel_1",24.0],PARAMETER["Standard_Parallel_2",31.5],PARAMETER["Latitude_Of_Origin",24.0],UNIT["Meter",1.0]]
Units: esriMeters
Supported Image Format Types: PNG24,PNG,JPG,DIB,TIFF,EMF,PS,PDF,GIF,SVG,SVGZ,AI
Document Info:
- Title: counties
- Author: RichardB
- Comments:
- Subject:
- Category:
- Keywords:
Supported Interfaces:
REST
SOAP
Supported Operations:
Export Map
Identify
Find
Generate KML